BEGIN:VCALENDAR
VERSION:2.0
PRODID:-//Suffolk Open Studios - ECPv6.15.20//NONSGML v1.0//EN
CALSCALE:GREGORIAN
METHOD:PUBLISH
X-ORIGINAL-URL:https://www.suffolkopenstudios.org
X-WR-CALDESC:Events for Suffolk Open Studios
REFRESH-INTERVAL;VALUE=DURATION:PT1H
X-Robots-Tag:noindex
X-PUBLISHED-TTL:PT1H
BEGIN:VTIMEZONE
TZID:UTC
BEGIN:STANDARD
TZOFFSETFROM:+0000
TZOFFSETTO:+0000
TZNAME:UTC
DTSTART:20240101T000000
END:STANDARD
END:VTIMEZONE
BEGIN:VEVENT
DTSTART;TZID=UTC:20250419T123000
DTEND;TZID=UTC:20250419T150000
DTSTAMP:20260419T140721
CREATED:20241205T104119Z
LAST-MODIFIED:20250211T093847Z
UID:34264-1745065800-1745074800@www.suffolkopenstudios.org
SUMMARY:Make A Planter - April
DESCRIPTION:Learn the Art of Steam Bending\nThis is a beginners course for adults wanting to get really hands on with woodwork and other crafts in a completely new way. No prior experience or knowledge of working with wood necessary. Attend on your own or with a friend or family member. Come away with an exciting creation and an experience you will be talking about for years to come. \nMaximum of 7 places available per workshop.  Contact us to arrange a date if you would like an exclusive workshop for groups of 3-7 people. \nWhat’s involved?\nThere is minimal demonstrating from us during this workshop. Our goal is to get you involved and steam bending within a very short time of arriving. The short course will be spent creating your own stylish wooden planter. You will have the creative freedom to make the piece you are working on unique to you through the numerous finishing options available on the day. \nPrepare to be amazed each time the initially solid wood bends before your eyes. \nWe hope you will end the day amazed by not only the capabilities of the unique technique of steam bending but by the creation you are taking home with you. \nAll materials and equipment is supplied.
URL:https://www.suffolkopenstudios.org/event/make-a-planter-april/
LOCATION:Suffolk
CATEGORIES:Course,Workshop
ATTACH;FMTTYPE=image/jpeg:https://www.suffolkopenstudios.org/wp-content/uploads/2024/11/Craft-Courses-Planter-Header-Image.jpg
END:VEVENT
END:VCALENDAR