BEGIN:VCALENDAR
VERSION:2.0
PRODID:-//Suffolk Open Studios - ECPv6.15.20//NONSGML v1.0//EN
CALSCALE:GREGORIAN
METHOD:PUBLISH
X-ORIGINAL-URL:https://www.suffolkopenstudios.org
X-WR-CALDESC:Events for Suffolk Open Studios
REFRESH-INTERVAL;VALUE=DURATION:PT1H
X-Robots-Tag:noindex
X-PUBLISHED-TTL:PT1H
BEGIN:VTIMEZONE
TZID:UTC
BEGIN:STANDARD
TZOFFSETFROM:+0000
TZOFFSETTO:+0000
TZNAME:UTC
DTSTART:20250101T000000
END:STANDARD
END:VTIMEZONE
BEGIN:VEVENT
DTSTART;TZID=UTC:20260204T100000
DTEND;TZID=UTC:20260204T160000
DTSTAMP:20260419T171351
CREATED:20260108T133732Z
LAST-MODIFIED:20260108T133732Z
UID:39746-1770199200-1770220800@www.suffolkopenstudios.org
SUMMARY:CPSC: A Study in Lithography
DESCRIPTION:An opportunity to study Lithography in depth.  The aim of the course is to provide a structured syllabus throughout a twelve-month period which seeks to give participants a firm technical grounding in the techniques of lithography on stone\, alongside the opportunity to experience a diverse range of intermediate and advanced techniques in Stone Lithography.  This includes 12 x studio days\, exhibition hanging day\, Exhibition Opening & Private View\, plus the opportunity for further studio days. \nDuration: \nFebruary – December 2026 commencing with a 3 day introductory course followed by one taught day per month for 9 months\, a day hanging the end of course exhibition\, and an exhibition opening and private view day. The core taught days will be on the last Wednesday of the month and will introduce specific topics.  Additional optional days available.  \nCost: £2000 including materials\n* Can be paid in instalments over the year\, contact us for details
URL:https://www.suffolkopenstudios.org/event/cpsc-a-study-in-lithography/
LOCATION:Curwen Print Study Centre\, The Old Granary\, Bury Road\, Great Thurlow\, Suffolk\, CB9 7LF\, United Kingdom
CATEGORIES:Course,Other,Workshop
ATTACH;FMTTYPE=image/jpeg:https://www.suffolkopenstudios.org/wp-content/uploads/2026/01/IMG_4838.jpeg
ORGANIZER;CN="Curwen Print Study Centre":MAILTO:enquiries@curwenprintstudy.co.uk
END:VEVENT
END:VCALENDAR