BEGIN:VCALENDAR
VERSION:2.0
PRODID:-//Suffolk Open Studios - ECPv6.15.20//NONSGML v1.0//EN
CALSCALE:GREGORIAN
METHOD:PUBLISH
X-WR-CALNAME:Suffolk Open Studios
X-ORIGINAL-URL:https://www.suffolkopenstudios.org
X-WR-CALDESC:Events for Suffolk Open Studios
REFRESH-INTERVAL;VALUE=DURATION:PT1H
X-Robots-Tag:noindex
X-PUBLISHED-TTL:PT1H
BEGIN:VTIMEZONE
TZID:UTC
BEGIN:STANDARD
TZOFFSETFROM:+0000
TZOFFSETTO:+0000
TZNAME:UTC
DTSTART:20230101T000000
END:STANDARD
END:VTIMEZONE
BEGIN:VEVENT
DTSTART;TZID=UTC:20240427T093000
DTEND;TZID=UTC:20240427T123000
DTSTAMP:20260423T095212
CREATED:20240406T092246Z
LAST-MODIFIED:20240406T092246Z
UID:32155-1714210200-1714221000@www.suffolkopenstudios.org
SUMMARY:Fused Glass Taster Course
DESCRIPTION:Fused glass taster course \nSaturday the 20th April and the 27th 9.30 to 12.30 £55.00 \nYou will have a choice of making a coaster\, tea light\, suncatcher trinket bowl or a small piece of art .
URL:https://www.suffolkopenstudios.org/event/fused-glass-taster-course-2/
LOCATION:The White Nettle\, 65 North Street\, Sudbury\, Suffolk\, CO10 1RE\, United Kingdom
CATEGORIES:Workshop
ATTACH;FMTTYPE=image/jpeg:https://www.suffolkopenstudios.org/wp-content/uploads/2024/04/IMG_9343-scaled.jpeg
END:VEVENT
END:VCALENDAR