BEGIN:VCALENDAR
VERSION:2.0
PRODID:-//Suffolk Open Studios - ECPv6.15.20//NONSGML v1.0//EN
CALSCALE:GREGORIAN
METHOD:PUBLISH
X-ORIGINAL-URL:https://www.suffolkopenstudios.org
X-WR-CALDESC:Events for Suffolk Open Studios
REFRESH-INTERVAL;VALUE=DURATION:PT1H
X-Robots-Tag:noindex
X-PUBLISHED-TTL:PT1H
BEGIN:VTIMEZONE
TZID:UTC
BEGIN:STANDARD
TZOFFSETFROM:+0000
TZOFFSETTO:+0000
TZNAME:UTC
DTSTART:20230101T000000
END:STANDARD
END:VTIMEZONE
BEGIN:VEVENT
DTSTART;TZID=UTC:20241124T100000
DTEND;TZID=UTC:20241124T150000
DTSTAMP:20260420T183822
CREATED:20241114T141340Z
LAST-MODIFIED:20241114T141340Z
UID:34099-1732442400-1732460400@www.suffolkopenstudios.org
SUMMARY:Simple Printmaking...
DESCRIPTION:Explore monoprint\, drypoint etching and linoprint with collage with artist\, Michelle Parsons – no experience needed. \nSunday 24th November\, 10.00am to 3.00pm \n£75 (includes all art materials\, tuition and veg lunch) \n@ Sparrowhedge House\, Front Street\, Ousden\, Suffolk\, CB8 8TW \nContact Michelle for further details or to reserve a space. \neaselandcanvas@gmail.com / 07534 667376 \n  \n 
URL:https://www.suffolkopenstudios.org/event/simple-printmaking/
LOCATION:Sparrowhedge House\, Front Street\, Ousden\, Suffolk\, CB8 8TW
CATEGORIES:Classes,Workshop
ATTACH;FMTTYPE=image/jpeg:https://www.suffolkopenstudios.org/wp-content/uploads/2024/11/Michelle.jpg
END:VEVENT
END:VCALENDAR