BEGIN:VCALENDAR
VERSION:2.0
PRODID:-//Suffolk Open Studios - ECPv6.15.20//NONSGML v1.0//EN
CALSCALE:GREGORIAN
METHOD:PUBLISH
X-WR-CALNAME:Suffolk Open Studios
X-ORIGINAL-URL:https://www.suffolkopenstudios.org
X-WR-CALDESC:Events for Suffolk Open Studios
REFRESH-INTERVAL;VALUE=DURATION:PT1H
X-Robots-Tag:noindex
X-PUBLISHED-TTL:PT1H
BEGIN:VTIMEZONE
TZID:UTC
BEGIN:STANDARD
TZOFFSETFROM:+0000
TZOFFSETTO:+0000
TZNAME:UTC
DTSTART:20230101T000000
END:STANDARD
END:VTIMEZONE
BEGIN:VEVENT
DTSTART;VALUE=DATE:20250925
DTEND;VALUE=DATE:20251008
DTSTAMP:20260419T145247
CREATED:20250716T064434Z
LAST-MODIFIED:20250716T064434Z
UID:37869-1758758400-1759881599@www.suffolkopenstudios.org
SUMMARY:Paint & Porcelain - Ruth Lyne & Claire Pirie at CraftCo in Southwold
DESCRIPTION:An exhibition of abstract landscape paintings by Ruth Lyne and hand thrown porcelain by Claire Pirie. \nThe exhibition will be upstairs at CraftCo in Southwold\, unfortunately there is no disabled access. \n \n 
URL:https://www.suffolkopenstudios.org/event/paint-porcelain-ruth-lyne-claire-pirie-at-craftco-in-southwold/
LOCATION:Craftco\, 40A High Street\, Southwold\, Suffolk\, IP18 6AE\, United Kingdom
CATEGORIES:Art Exhibition,Exhibitions,Member Exhibition
ATTACH;FMTTYPE=image/jpeg:https://www.suffolkopenstudios.org/wp-content/uploads/2025/07/FB-event-CraftCo.jpg
END:VEVENT
BEGIN:VEVENT
DTSTART;TZID=UTC:20250911T100000
DTEND;TZID=UTC:20250914T160000
DTSTAMP:20260419T145247
CREATED:20250807T113740Z
LAST-MODIFIED:20250807T113740Z
UID:38137-1757584800-1757865600@www.suffolkopenstudios.org
SUMMARY:Clay in Clare 2025
DESCRIPTION:
URL:https://www.suffolkopenstudios.org/event/clay-in-clare-2025/
LOCATION:The Old Goods Shed\, Clare Country Park\, Clare\, Suffolk\, CO10 8NW\, United Kingdom
CATEGORIES:Art Exhibition,Exhibitions,Member Exhibition
ATTACH;FMTTYPE=image/jpeg:https://www.suffolkopenstudios.org/wp-content/uploads/2025/08/small-poster-scaled.jpg
ORGANIZER;CN="Sue Eyre":MAILTO:contact@sueeyreceramics.co.uk
END:VEVENT
BEGIN:VEVENT
DTSTART;TZID=UTC:20250821T100000
DTEND;TZID=UTC:20250831T160000
DTSTAMP:20260419T145247
CREATED:20250701T133554Z
LAST-MODIFIED:20250812T211057Z
UID:37674-1755770400-1756656000@www.suffolkopenstudios.org
SUMMARY:SOS Summer Exhibition 2025 - Holton Lodge Barn\, Halesworth
DESCRIPTION:Another great opportunity to see the fantastic work created by our talented and inspirational members\, this time in the beautiful setting of Holton Lodge Barn Gallery\, just outside Halesworth. \nPaintings\, sculptures\, jewellery\, ceramics\, glass and much more will be on show. All work is for sale and there are pieces to suit every budget although there’s no obligation to buy and if you’d simply like to come and immerse yourself in some wonderful art we’d love to see you. \nFrom 21st – 31st August\, 10am-4pm daily\, browse and perhaps treat yourself to a lovely piece of original art for your home or to gift to friends and family. \nFREE ENTRY \nFor up-to-date follow us on Instagram @suffolkopenstudios. \n  \n 
URL:https://www.suffolkopenstudios.org/event/sos-summer-exhibition-2025-holton-lodge-barn-halesworth/
LOCATION:Holton Lodge Barn\, The Street\, Holton\, Halesworth\, Suffolk\, IP19 8PN\, United Kingdom
CATEGORIES:Art Exhibition,Exhibitions
ATTACH;FMTTYPE=image/jpeg:https://www.suffolkopenstudios.org/wp-content/uploads/2025/04/SOS-main-logo.jpg
END:VEVENT
BEGIN:VEVENT
DTSTART;TZID=UTC:20250621T110000
DTEND;TZID=UTC:20250622T170000
DTSTAMP:20260419T145247
CREATED:20250701T132207Z
LAST-MODIFIED:20250701T132207Z
UID:37611-1750503600-1750611600@www.suffolkopenstudios.org
SUMMARY:Celebration Studio Sale
DESCRIPTION:
URL:https://www.suffolkopenstudios.org/event/celebration-studio-sale/
LOCATION:Suffolk
CATEGORIES:Art Exhibition,Exhibitions,Member Exhibition
END:VEVENT
BEGIN:VEVENT
DTSTART;TZID=UTC:20250617T100000
DTEND;TZID=UTC:20250622T160000
DTSTAMP:20260419T145247
CREATED:20250608T072423Z
LAST-MODIFIED:20250608T072423Z
UID:37548-1750154400-1750608000@www.suffolkopenstudios.org
SUMMARY:Exhibition
DESCRIPTION:Miranda Grayling\, Sue Eyre and Marian Lishman are joining forces to hold a mixed media exhibition in Framlingham as part of Suffolk Open Studios. \nWith paintings\, ceramics\, sea glass\, cards and more\, there will be a wide variety of bright and quirky items for sale. \n10 Church Street is just up the hill towards the castle in Framlingham. There is some on street parking in the area or use the car park in market square. \nWe are open from 10am to 4pm each day.
URL:https://www.suffolkopenstudios.org/event/exhibition/
LOCATION:The Corner Room\, Framlingham\, 10 Church Street\, Framlingham\, Suffolk\, IP13 9BH\, United Kingdom
CATEGORIES:Art Exhibition,Exhibitions
ATTACH;FMTTYPE=image/png:https://www.suffolkopenstudios.org/wp-content/uploads/2025/06/the-corner-room.png
END:VEVENT
BEGIN:VEVENT
DTSTART;TZID=UTC:20250614T110000
DTEND;TZID=UTC:20250615T170000
DTSTAMP:20260419T145247
CREATED:20250305T145744Z
LAST-MODIFIED:20250305T145744Z
UID:36791-1749898800-1750006800@www.suffolkopenstudios.org
SUMMARY:2025 Clare Art Trail
DESCRIPTION:2025 Clare art Trail as part of Suffolk Open Studios 7/8 and 14/15 June. \nA selection of paintings\, prints\, textiles\, jewellery and ceramics. \n\nChilli Designs\nLeigh Driver\nJocelyne Dudding\nPenny Evans\nSue Eyre\nDonna Goymer\nhiro ceramics\nDiana Kazemi\nMichelle Parsons\nTT Designs\nNicola Whayman\n\n \n\nSue Eyre\, Stour House\, Stoke road\, CO10 8NS 7/8 and 14/15 June.\nDiana Kazemi\, The Grove\, 30 Callis Street\, CO10 8NS 7/8 and 14/15 June\nExhibition – The Old Goods Shed\, Clare Castle Country Park\, Malting Lane\, CO10 8NW: Theresa Chiam (7/8 June)\, Chilli Designs (7/8 June)\, Leigh Driver (7/8 and 14/15 June)\, Penny Evans (7/8 and 14/15 June)\, Donna Goymer (7/8 and 14/15 June)\, Michelle Parsons\, Nicola Whayman (14/15 June)\, Catherine Wynne-Powell (7/8 and 14/15 June)\n\nDownload the 2025 Clare Art Trail flyer HERE.
URL:https://www.suffolkopenstudios.org/event/2025-clare-art-trail-2/
LOCATION:Suffolk
CATEGORIES:Art Exhibition,Exhibitions,Trails
ATTACH;FMTTYPE=image/jpeg:https://www.suffolkopenstudios.org/wp-content/uploads/2025/03/Clare-Art-Trail.jpg
END:VEVENT
BEGIN:VEVENT
DTSTART;TZID=UTC:20250607T110000
DTEND;TZID=UTC:20250608T170000
DTSTAMP:20260419T145247
CREATED:20250305T141440Z
LAST-MODIFIED:20250305T141659Z
UID:36777-1749294000-1749402000@www.suffolkopenstudios.org
SUMMARY:2025 Clare Art Trail
DESCRIPTION:2025 Clare art Trail as part of Suffolk Open Studios 7/8 and 14/15 June. \nA selection of paintings\, prints\, textiles\, jewellery and ceramics. \n\nChilli Designs\nLeigh Driver\nJocelyne Dudding\nPenny Evans\nSue Eyre\nDonna Goymer\nhiro ceramics\nDiana Kazemi\nMichelle Parsons\nTT Designs\nNicola Whayman\n\n \n\nSue Eyre\, Stour House\, Stoke road\, CO10 8NS 7/8 and 14/15 June.\nDiana Kazemi\, The Grove\, 30 Callis Street\, CO10 8NS 7/8 and 14/15 June\nExhibition – The Old Goods Shed\, Clare Castle Country Park\, Malting Lane\, CO10 8NW: Theresa Chiam (7/8 June)\, Chilli Designs (7/8 June)\, Leigh Driver (7/8 and 14/15 June)\, Penny Evans (7/8 and 14/15 June)\, Donna Goymer (7/8 and 14/15 June)\, Michelle Parsons\, Nicola Whayman (14/15 June)\, Catherine Wynne-Powell (7/8 and 14/15 June)\n\nDownload the 2025 Clare Art Trail flyer HERE.
URL:https://www.suffolkopenstudios.org/event/2025-clare-art-trail/
LOCATION:Suffolk
CATEGORIES:Art Exhibition,Exhibitions,Trails
ATTACH;FMTTYPE=image/jpeg:https://www.suffolkopenstudios.org/wp-content/uploads/2025/03/Clare-Art-Trail.jpg
END:VEVENT
BEGIN:VEVENT
DTSTART;TZID=UTC:20250602T100000
DTEND;TZID=UTC:20250630T160000
DTSTAMP:20260419T145247
CREATED:20250209T191302Z
LAST-MODIFIED:20250209T191729Z
UID:36439-1748858400-1751299200@www.suffolkopenstudios.org
SUMMARY:Tracy Laudat
DESCRIPTION:See work by Tracy Laudat in an exhibition event at Suffolk Living art Gallery from 2nd – 30th June\, 22 Hamilton Road\, Felixstowe\, IP11 7AN
URL:https://www.suffolkopenstudios.org/event/tracy-laudat-exhibition/
LOCATION:Suffolk Living Art Gallery\, 22 Hamilton Road\, Felixstowe\, Suffolk\, IP11 7AN
CATEGORIES:Art Exhibition,Exhibitions,Member Exhibition
ATTACH;FMTTYPE=image/jpeg:https://www.suffolkopenstudios.org/wp-content/uploads/2025/02/image0-1-1.jpeg
END:VEVENT
BEGIN:VEVENT
DTSTART;TZID=UTC:20250510T100000
DTEND;TZID=UTC:20250518T160000
DTSTAMP:20260419T145247
CREATED:20250415T095040Z
LAST-MODIFIED:20250415T095040Z
UID:37055-1746871200-1747584000@www.suffolkopenstudios.org
SUMMARY:River stories at Flatford
DESCRIPTION:An exhibition by 21 East Anglian artists inspired by the River Stour at Flatford and the rivers running through their lives. \nThe artworks include sculpture\, photography\, fused glass\, mosaic and painting. \nOpening party 9th May 6-8pm\, please come along. \nScreenshot\n10th to 18th May 10am-4pm \nThis is a National Trust property with free entry but non NT member pay to park.
URL:https://www.suffolkopenstudios.org/event/river-stories-at-flatford/
LOCATION:Flatford\, The Granary\, Flatford\, Suffolk\, CO2 6UL\, United Kingdom
CATEGORIES:Art Exhibition,Exhibitions,Member Exhibition
ATTACH;FMTTYPE=image/jpeg:https://www.suffolkopenstudios.org/wp-content/uploads/2025/04/Flatford_exhibition.jpg
END:VEVENT
BEGIN:VEVENT
DTSTART;TZID=UTC:20250304T103000
DTEND;TZID=UTC:20250329T130000
DTSTAMP:20260419T145247
CREATED:20250209T134148Z
LAST-MODIFIED:20250209T134148Z
UID:36306-1741084200-1743253200@www.suffolkopenstudios.org
SUMMARY:Garner+Read 'Light and Colour'
DESCRIPTION:Hilary Garner and Norma Read are exhibiting together\, throughout March 2025 at The George Farnham Gallery in Saxmundham. There will be new work as well as some older pieces\, unframed work and greeting cards. Something for every occasion and purse.
URL:https://www.suffolkopenstudios.org/event/garnerread-light-and-colour/
LOCATION:The George Farnham Gallery\, 6A High Street\, Saxmundham\, Suffolk\, IP17 1DD\, United Kingdom
CATEGORIES:Art Exhibition,Exhibitions,Member Exhibition
ATTACH;FMTTYPE=image/png:https://www.suffolkopenstudios.org/wp-content/uploads/2025/02/Light-and-Sound_amended_a.png
ORGANIZER;CN="The George Farnham Gallery":MAILTO:contact@thegeorgefarnhamgallery.uk
END:VEVENT
BEGIN:VEVENT
DTSTART;TZID=UTC:20241128T100000
DTEND;TZID=UTC:20241204T170000
DTSTAMP:20260419T145247
CREATED:20241126T101642Z
LAST-MODIFIED:20241126T101642Z
UID:34220-1732788000-1733331600@www.suffolkopenstudios.org
SUMMARY:Nature Reimagined - An Exhibition by Klair Bauly & Brigitte Girling
DESCRIPTION:
URL:https://www.suffolkopenstudios.org/event/nature-reimagined-an-exhibition-by-klair-bauly-brigitte-girling/
LOCATION:Artspace\, Woodbridge\, 64 Thoroughfare\, Woodbridge\, IP12 1AL\, United Kingdom
CATEGORIES:Art Exhibition,Exhibitions,Member Exhibition
ATTACH;FMTTYPE=image/jpeg:https://www.suffolkopenstudios.org/wp-content/uploads/2024/11/Nature-Reimagined-2.jpeg
END:VEVENT
BEGIN:VEVENT
DTSTART;TZID=UTC:20241017T100000
DTEND;TZID=UTC:20241029T160000
DTSTAMP:20260419T145247
CREATED:20240910T141111Z
LAST-MODIFIED:20240911T084356Z
UID:33411-1729159200-1730217600@www.suffolkopenstudios.org
SUMMARY:Suffolk Open Studios Members' Autumn Exhibition
DESCRIPTION:Suffolk Open Studios Members’ Autumn Exhibition at The Grundisburgh House Gallery will run from Thursday 17th October – Tuesday 29th October\, 10am-4pm. \n 
URL:https://www.suffolkopenstudios.org/event/suffolk-open-studios-members-autumn-exhibition/
LOCATION:The Grundisbugh House Gallery\, Woodbridge Road\, Grundisburgh\, IP13 6UD\, United Kingdom
CATEGORIES:Art Exhibition,Exhibitions
ATTACH;FMTTYPE=image/jpeg:https://www.suffolkopenstudios.org/wp-content/uploads/2024/09/GrundisburghAd.jpg
END:VEVENT
BEGIN:VEVENT
DTSTART;TZID=UTC:20240925T100000
DTEND;TZID=UTC:20241001T160000
DTSTAMP:20260419T145247
CREATED:20240911T084434Z
LAST-MODIFIED:20240911T084434Z
UID:33422-1727258400-1727798400@www.suffolkopenstudios.org
SUMMARY:Two Painters and a Potter
DESCRIPTION:Sue Eyre\, Hilary Garner and Marian Lishman bring their own unique styles to the Craft House in Woodbridge for a week.\nCome and see paintings and ceramics from the three Suffolk based artists.
URL:https://www.suffolkopenstudios.org/event/two-painters-and-a-potter/
LOCATION:Craft House Gallery\, 64 Thoroughfare\, Woodbridge\, IP5 3UB\, United Kingdom
CATEGORIES:Art Exhibition,Exhibitions
ATTACH;FMTTYPE=image/jpeg:https://www.suffolkopenstudios.org/wp-content/uploads/2024/09/2-painters-and-a-potter.jpg
ORGANIZER;CN="Marian Lishman":MAILTO:marian@azureart.com
END:VEVENT
BEGIN:VEVENT
DTSTART;TZID=UTC:20240912T100000
DTEND;TZID=UTC:20240915T160000
DTSTAMP:20260419T145247
CREATED:20240910T133848Z
LAST-MODIFIED:20240910T133848Z
UID:33404-1726135200-1726416000@www.suffolkopenstudios.org
SUMMARY:Clay in Clare
DESCRIPTION:September 12th – 15th\, 10am-4pm \n11 potters showcasing the beauty and versatility of clay \nFree Entry \nThe Old Goods Shed\, Clare Castle Country Park
URL:https://www.suffolkopenstudios.org/event/clay-in-clare/
LOCATION:The Old Goods Shed\, Clare Country Park\, Clare\, Suffolk\, CO10 8NW\, United Kingdom
CATEGORIES:Art Exhibition,Exhibitions,Member Exhibition
ATTACH;FMTTYPE=image/jpeg:https://www.suffolkopenstudios.org/wp-content/uploads/2024/09/IMG_9773-scaled.jpg
END:VEVENT
BEGIN:VEVENT
DTSTART;TZID=UTC:20240911T100000
DTEND;TZID=UTC:20240930T180000
DTSTAMP:20260419T145247
CREATED:20240911T095826Z
LAST-MODIFIED:20240911T095826Z
UID:33429-1726048800-1727719200@www.suffolkopenstudios.org
SUMMARY:Art & Horse Racing Gallery - End of Summer Exhibition
DESCRIPTION:End of Summer Exhibition\n\n10am-6pm daily until September 30th\n\nEnjoy a golden September surrounded by vibrant \, colourful \, uplifting artwork and real racehorses.\n\nArtwork on display is by an international stable of artists of all genres and themes like landscapes\, seascapes and still life . Not just the obvious sporting and equine art .\n\n\nGansera-Leveque: We train Winners!\n\n\nArt & Horse Racing Gallery\, Newmarket
URL:https://www.suffolkopenstudios.org/event/art-horse-racing-gallery-end-of-summer-exhibition/
LOCATION:Art & Horse Racing Gallery\, Saint Wendred's \, Hamilton Road\, Newmarket\, Suffolk\, CB8 7JQ\, United Kingdom
CATEGORIES:Art Exhibition,Exhibitions
ATTACH;FMTTYPE=image/jpeg:https://www.suffolkopenstudios.org/wp-content/uploads/2024/09/Pegasus-jpeg.jpeg
ORGANIZER;CN="Art &amp%3B Horse Racing Gallery":MAILTO:office@gansera-leveque.com
END:VEVENT
BEGIN:VEVENT
DTSTART;TZID=UTC:20240703T100000
DTEND;TZID=UTC:20240709T160000
DTSTAMP:20260419T145247
CREATED:20240628T100455Z
LAST-MODIFIED:20240628T100455Z
UID:32712-1720000800-1720540800@www.suffolkopenstudios.org
SUMMARY:Contemporary Land and Sea
DESCRIPTION:An exhibition of quirky\, bright and fun art and ceramics from \nSue Eyre \nMiranda Grayling \nMarian Lishman \nOpen 10am to 4pm each day
URL:https://www.suffolkopenstudios.org/event/contemporary-land-and-sea/
LOCATION:Courtyard Gallery\, Aldeburgh\, 152a High Street\, Aldeburgh\, Suffolk\, IP15 5AQ\, United Kingdom
CATEGORIES:Art Exhibition,Exhibitions
ATTACH;FMTTYPE=image/jpeg:https://www.suffolkopenstudios.org/wp-content/uploads/2024/06/Contemporary-Land-and-Sea-A4.jpg
ORGANIZER;CN="Marian Lishman":MAILTO:marian@azureart.com
END:VEVENT
BEGIN:VEVENT
DTSTART;TZID=UTC:20240619T093000
DTEND;TZID=UTC:20240625T160000
DTSTAMP:20260419T145247
CREATED:20240416T092740Z
LAST-MODIFIED:20240416T092740Z
UID:32333-1718789400-1719331200@www.suffolkopenstudios.org
SUMMARY:A Solo exhibition of abstract art by Ruth Lyne
DESCRIPTION:A solo exhibition of abstract paintings and mixed media art by Ruth Lyne at The Craft House in Woodbridge\, part of Suffolk Open Studios.\n\nWeekdays – 9.30am to 4pmSaturday and Sunday – 9.30 to 5pm\n\nThe exhibition will feature a new collection of artwork inspired by the river Deben both in Woodbridge and where it meets the North Sea at Felixstowe Ferry.\nThere will also be a selection of paintings inspired by the colours and textures of the coast. I don’t try to recreate the natural world in my art work\, instead I want to create an image that evokes the feeling of walking by the sea and watching the waves with the wind at your face.\nPlease call in to see the exhibition and maybe have a chat with me about the art.
URL:https://www.suffolkopenstudios.org/event/a-solo-exhibition-of-abstract-art-by-ruth-lyne/
LOCATION:The Craft House Gallery\, 1b Thoroughfare\, Woodbridge\, Suffolk\, IP121AA\, United Kingdom
CATEGORIES:Art Exhibition,Exhibitions,June Open Studios,Member Exhibition,Member Open Studio,Open Studios
ATTACH;FMTTYPE=image/jpeg:https://www.suffolkopenstudios.org/wp-content/uploads/2024/04/Ruth-Lyne-abstract-art-16x9-1.jpeg
END:VEVENT
BEGIN:VEVENT
DTSTART;TZID=UTC:20240509T100000
DTEND;TZID=UTC:20240516T160000
DTSTAMP:20260419T145247
CREATED:20240501T140045Z
LAST-MODIFIED:20240501T140045Z
UID:32404-1715248800-1715875200@www.suffolkopenstudios.org
SUMMARY:Elemental
DESCRIPTION:Contemporary Work by 4 East Anglian artists: \nMarian Lishman \nRuth McCabe \nSara McLaughlin \nSusan Whatling
URL:https://www.suffolkopenstudios.org/event/elemental/
LOCATION:Pond Gallery\, Snape Maltings\, Snape Maltings\, Snape\, Suffolk\, IP17 1SP\, United Kingdom
CATEGORIES:Art Exhibition,Exhibitions
ATTACH;FMTTYPE=image/jpeg:https://www.suffolkopenstudios.org/wp-content/uploads/2024/05/Elemental-Pond-Square.jpg
ORGANIZER;CN="Marian Lishman":MAILTO:marian@azureart.com
END:VEVENT
BEGIN:VEVENT
DTSTART;TZID=UTC:20240503T110000
DTEND;TZID=UTC:20240526T160000
DTSTAMP:20260419T145247
CREATED:20240514T082742Z
LAST-MODIFIED:20240514T082742Z
UID:32438-1714734000-1716739200@www.suffolkopenstudios.org
SUMMARY:Nature Without Nurture
DESCRIPTION:Carol Gleeson and Clare  Nijhawan are exhibiting their work\, portraying their love of nature\, each presenting their interpretation in very different ways. Having lived in the countryside for many years\, the joy of nature can be explored and portrayed in a creative form.\n\nCarol and Clare derive such pleasure from transferring pure expression onto canvas with different art techniques.\n\n“Nature Without Nurture” can be seen at Beyond the Image Gallery from the 3rd of May until the 25th of May\, Fridays\, Saturdays and Sundays between 11:00am and 4:00pm.
URL:https://www.suffolkopenstudios.org/event/nature-without-nurture/
LOCATION:Beyond the Image Gallery\, 13 Red House Yard\, Gislingham Road\, Thornham Magna\,\, Eye\, Suffolk\, IP23 8HH\, United Kingdom
CATEGORIES:Art Exhibition,Exhibitions
ATTACH;FMTTYPE=image/png:https://www.suffolkopenstudios.org/wp-content/uploads/2024/05/BTI-Exhibit-With-Us-6.png
ORGANIZER;CN="Beyond the Image Gallery":MAILTO:gemmabtigallery@gmail.com
END:VEVENT
BEGIN:VEVENT
DTSTART;TZID=UTC:20240419T100000
DTEND;TZID=UTC:20240501T160000
DTSTAMP:20260419T145247
CREATED:20231107T100507Z
LAST-MODIFIED:20231107T100507Z
UID:29466-1713520800-1714579200@www.suffolkopenstudios.org
SUMMARY:Spring Members' Exhibition 2024
DESCRIPTION:We will be having our launch exhibition at the Pond Gallery in Snape Maltings from 19th April to 1st May 2024. A great opportunity to see the wide variety of work on offer from our members and to come and pick up a directory.
URL:https://www.suffolkopenstudios.org/event/spring-members-exhibition-2024/
LOCATION:Pond Gallery\, Snape Maltings\, Snape Maltings\, Snape\, Suffolk\, IP17 1SP\, United Kingdom
CATEGORIES:Art Exhibition,Exhibitions,Member Exhibition
ATTACH;FMTTYPE=image/jpeg:https://www.suffolkopenstudios.org/wp-content/uploads/2023/11/Pond-Gallery-SM-2024-scaled.jpg
END:VEVENT
END:VCALENDAR