BEGIN:VCALENDAR
VERSION:2.0
PRODID:-//Suffolk Open Studios - ECPv6.15.20//NONSGML v1.0//EN
CALSCALE:GREGORIAN
METHOD:PUBLISH
X-WR-CALNAME:Suffolk Open Studios
X-ORIGINAL-URL:https://www.suffolkopenstudios.org
X-WR-CALDESC:Events for Suffolk Open Studios
REFRESH-INTERVAL;VALUE=DURATION:PT1H
X-Robots-Tag:noindex
X-PUBLISHED-TTL:PT1H
BEGIN:VTIMEZONE
TZID:UTC
BEGIN:STANDARD
TZOFFSETFROM:+0000
TZOFFSETTO:+0000
TZNAME:UTC
DTSTART:20240101T000000
END:STANDARD
END:VTIMEZONE
BEGIN:VEVENT
DTSTART;TZID=UTC:20250614T103000
DTEND;TZID=UTC:20250615T170000
DTSTAMP:20260421T201752
CREATED:20250209T134229Z
LAST-MODIFIED:20250220T081609Z
UID:36088-1749897000-1750006800@www.suffolkopenstudios.org
SUMMARY:Sudbury Open Studios Art Trail
DESCRIPTION:Eleven local artists and makers in and around Sudbury will be opening their studios and sharing their creativity as part of an Art trail over the weekend of 14th and 15th June .You’ll be able to see the artists in their workplaces and talk to them about what has inspired them and the processes involved in making their work. There’s also the opportunity to buy direct from the artists\, with a wide variety of 3D work\, prints\, paintings and artists’ cards on sale. \nWhile youre here make sure to take time to explore this historic market town. There are plenty of coffee shops and don’t miss visiting the National Centre for Gainsborough at Gainsborough’s House Museum with its historic house and fabulous new galleries and cafe.\nRelax in any of the welcoming coffee bars dotted all around the town or if you feel like a walk\, the Mill Tye Gallery is just a pleasant stroll away along the riverside path.
URL:https://www.suffolkopenstudios.org/event/sudbury-open-studios-art-trail/
LOCATION:Suffolk
CATEGORIES:Exhibitions,June Open Studios,Member Exhibition,Open Studios,Trails
ATTACH;FMTTYPE=image/jpeg:https://www.suffolkopenstudios.org/wp-content/uploads/2025/02/temp-pic-for-SOS-trail.jpg
END:VEVENT
END:VCALENDAR